BEGIN:VCALENDAR
VERSION:2.0
PRODID:-//hacksw/handcal//NONSGML v1.0//EN
METHOD:PUBLISH
CALSCALE:GREGORIAN
BEGIN:VEVENT
UID:69eb9ee01680c
DTSTART:20221202T050000Z
DTSTAMP:20260424T164832Z
DTEND:20221202T050000Z
LOCATION:Laughlin Air Force Base
DESCRIPTION:ATTention Military FamilieS! Join Mike Super on his 2022 
 NATIONAL Air Force Base Tour! MIKE SUPER - MAGIC &amp\; ILLUSION This
  is the perfect evening for your entire family! Coming straight from 
 your TV to the theatre stage! -As seen on Ellen\, America&#39\;s Got 
 Talent\, NBC&#39\;s Phenomenon &amp\; Penn&hellip\;
URL;VALUE=URI:https://www.mikesuper.com/tour/december-2-2022-laughlin
 -air-force-base
SUMMARY:December 2 2022 Laughlin Air Force Base
END:VEVENT
END:VCALENDAR